BEGIN:VCALENDAR
VERSION:2.0
PRODID:-//Squarespace Inc/Squarespace 6//v6//EN
BEGIN:VEVENT
UID:5e4c99df4bda2d4b36115e71@squarespace.com
DTSTAMP:20200219T041000Z
DTSTART:20200312T003000Z
DTEND:20200313T043000Z
SUMMARY:Mental Health First Aid Course
END:VEVENT
END:VCALENDAR
